BEGIN:VCALENDAR
VERSION:2.0
PRODID:-//Sitio oficial de gobierno del Ministerio de Salud Pública en Cuba - ECPv5.9.0//NONSGML v1.0//EN
CALSCALE:GREGORIAN
METHOD:PUBLISH
X-WR-CALNAME:Sitio oficial de gobierno del Ministerio de Salud Pública en Cuba
X-ORIGINAL-URL:https://salud.msp.gob.cu
X-WR-CALDESC:Eventos para Sitio oficial de gobierno del Ministerio de Salud Pública en Cuba
BEGIN:VTIMEZONE
TZID:America/New_York
BEGIN:DAYLIGHT
TZOFFSETFROM:-0500
TZOFFSETTO:-0400
TZNAME:EDT
DTSTART:20190310T070000
END:DAYLIGHT
BEGIN:STANDARD
TZOFFSETFROM:-0400
TZOFFSETTO:-0500
TZNAME:EST
DTSTART:20191103T060000
END:STANDARD
END:VTIMEZONE
BEGIN:VEVENT
DTSTART;VALUE=DATE:20191007
DTEND;VALUE=DATE:20191012
DTSTAMP:20210825T181023
CREATED:20190214T195801Z
LAST-MODIFIED:20190214T195801Z
UID:486-1570406400-1570838399@salud.msp.gob.cu
SUMMARY:Cuba Alergia 2019
DESCRIPTION:VI Encuentro Iberoamericano \n X Congreso Nacional de Alergia  \nClasifique el contenido.\n                            \n                          [Total: 0  Average: 0]
URL:https://salud.msp.gob.cu/event/cuba-alergia-2019/
LOCATION:Palacio de las Convenciones\, 146\, Romerillo\, Playa\, Ciudad de la Habana\, La Habana\, 12100\, Cuba
CATEGORIES:Internacionales,Nacionales
END:VEVENT
BEGIN:VEVENT
DTSTART;VALUE=DATE:20191008
DTEND;VALUE=DATE:20191011
DTSTAMP:20210825T181023
CREATED:20190214T200311Z
LAST-MODIFIED:20190214T200311Z
UID:489-1570492800-1570751999@salud.msp.gob.cu
SUMMARY:CARDIOVILLA 2019
DESCRIPTION:VI Congreso Cardiocirugía \nIII Simposio de Paradojas Cardiovasculares \nV Taller de Riesgo Cardiovascular \nClasifique el contenido.\n                            \n                          [Total: 0  Average: 0]
URL:https://salud.msp.gob.cu/event/cardiovilla-2019/
LOCATION:Hotel Meliá Las Dunas\, Pedraplén Cayo Santa María\, Cayo Santa María\, Villa Clara\, Cuba\, Cayo Santa María\, Villa Clara\, Cuba
CATEGORIES:Internacionales,Nacionales
END:VEVENT
END:VCALENDAR