BEGIN:VCALENDAR
VERSION:2.0
PRODID:-//Sitio oficial de gobierno del Ministerio de Salud Pública en Cuba. - ECPv4.7.3//NONSGML v1.0//EN
CALSCALE:GREGORIAN
METHOD:PUBLISH
X-WR-CALNAME:Sitio oficial de gobierno del Ministerio de Salud Pública en Cuba.
X-ORIGINAL-URL:https://salud.msp.gob.cu
X-WR-CALDESC:Eventos para Sitio oficial de gobierno del Ministerio de Salud Pública en Cuba.
BEGIN:VEVENT
DTSTART;VALUE=DATE:20190923
DTEND;VALUE=DATE:20190928
DTSTAMP:20191126T190027
CREATED:20190214T195008Z
LAST-MODIFIED:20190214T195008Z
UID:479-1569196800-1569628799@salud.msp.gob.cu
SUMMARY:XXVIII Congreso Internacional de Ortopedia y Traumatología
DESCRIPTION:\n        ¡Haz clic para calificar esta publicación!\n        [Total: 0  Average: 0]\nXXVIII Congreso Internacional de Ortopedia y Traumatología \n
URL:https://salud.msp.gob.cu/?tribe_events=xxviii-congreso-internacional-de-ortopedia-y-traumatologia
LOCATION:Centro de Convenciones de Cojimar\, Cojímar\, Habana del Este\, La Habana\, 11749\, Cuba
END:VEVENT
END:VCALENDAR