BEGIN:VCALENDAR
VERSION:2.0
PRODID:-//Sitio oficial de gobierno del Ministerio de Salud Pública en Cuba. - ECPv4.7.3//NONSGML v1.0//EN
CALSCALE:GREGORIAN
METHOD:PUBLISH
X-WR-CALNAME:Sitio oficial de gobierno del Ministerio de Salud Pública en Cuba.
X-ORIGINAL-URL:https://salud.msp.gob.cu
X-WR-CALDESC:Eventos para Sitio oficial de gobierno del Ministerio de Salud Pública en Cuba.
BEGIN:VEVENT
DTSTART;VALUE=DATE:20191106
DTEND;VALUE=DATE:20191109
DTSTAMP:20191115T214758
CREATED:20190214T200721Z
LAST-MODIFIED:20190214T200721Z
UID:496-1572998400-1573257599@salud.msp.gob.cu
SUMMARY:V Congreso Cubano de Imagenología
DESCRIPTION:\n        ¡Haz clic para calificar esta publicación!\n        [Total: 3  Average: 4.3]V Congreso Cubano de Imagenología \n{"@context":"http:\/\/schema.org\/"\,"@type":"Product"\,"name":"V Congreso Cubano de Imagenolog\u00eda"\,"image":{"@type":"ImageObject"\,"url":"https:\/\/salud.msp.gob.cu\/wp-content\/uploads\/2019\/01\/logo.png"\,"width":133\,"height":139}\,"aggregateRating":{"@type":"AggregateRating"\,"ratingValue":"4.3"\,"ratingCount":"3"}}
URL:https://salud.msp.gob.cu/?tribe_events=v-congreso-cubano-de-imagenologia
LOCATION:Hotel Nacional de Cuba\, Calle 21 esquina a la Calle O\, Vedado\, La Habana\, Ciudad de la Habana\, La Habana\, 10600\, Cuba
CATEGORIES:Nacionales
END:VEVENT
END:VCALENDAR