BEGIN:VCALENDAR
VERSION:2.0
PRODID:-//Sitio oficial de gobierno del Ministerio de Salud Pública en Cuba. - ECPv4.7.3//NONSGML v1.0//EN
CALSCALE:GREGORIAN
METHOD:PUBLISH
X-WR-CALNAME:Sitio oficial de gobierno del Ministerio de Salud Pública en Cuba.
X-ORIGINAL-URL:https://salud.msp.gob.cu
X-WR-CALDESC:Eventos para Sitio oficial de gobierno del Ministerio de Salud Pública en Cuba.
BEGIN:VEVENT
DTSTART;VALUE=DATE:20191001
DTEND;VALUE=DATE:20191005
DTSTAMP:20191126T094412
CREATED:20190214T195516Z
LAST-MODIFIED:20190214T195516Z
UID:483-1569888000-1570233599@salud.msp.gob.cu
SUMMARY:Rehabilitación 2019
DESCRIPTION:\n        ¡Haz clic para calificar esta publicación!\n        [Total: 0  Average: 0]\nIX Congreso Internacional de la Sociedad Cubana de Medicina Física y Rehabilitación \n
URL:https://salud.msp.gob.cu/?tribe_events=rehabilitacion-2019
LOCATION:Palacio de las Convenciones\, 146\, Romerillo\, Playa\, Ciudad de la Habana\, La Habana\, 12100\, Cuba
CATEGORIES:Internacionales
END:VEVENT
END:VCALENDAR