BEGIN:VCALENDAR
VERSION:2.0
PRODID:-//Sitio oficial de gobierno del Ministerio de Salud Pública en Cuba. - ECPv4.7.3//NONSGML v1.0//EN
CALSCALE:GREGORIAN
METHOD:PUBLISH
X-WR-CALNAME:Sitio oficial de gobierno del Ministerio de Salud Pública en Cuba.
X-ORIGINAL-URL:https://salud.msp.gob.cu
X-WR-CALDESC:Eventos para Sitio oficial de gobierno del Ministerio de Salud Pública en Cuba.
BEGIN:VEVENT
DTSTART;VALUE=DATE:20191120
DTEND;VALUE=DATE:20191123
DTSTAMP:20191115T061431
CREATED:20190214T201751Z
LAST-MODIFIED:20190214T201751Z
UID:506-1574208000-1574467199@salud.msp.gob.cu
SUMMARY:MEDINTER 2019
DESCRIPTION:\n        ¡Haz clic para calificar esta publicación!\n        [Total: 0  Average: 0]XII Congreso Nacional de Medicina Interna \n
URL:https://salud.msp.gob.cu/?tribe_events=medinter-2019
LOCATION:Palacio de las Convenciones\, 146\, Romerillo\, Playa\, Ciudad de la Habana\, La Habana\, 12100\, Cuba
CATEGORIES:Nacionales
END:VEVENT
END:VCALENDAR