BEGIN:VCALENDAR
VERSION:2.0
PRODID:-//Sitio oficial de gobierno del Ministerio de Salud Pública en Cuba. - ECPv4.7.3//NONSGML v1.0//EN
CALSCALE:GREGORIAN
METHOD:PUBLISH
X-WR-CALNAME:Sitio oficial de gobierno del Ministerio de Salud Pública en Cuba.
X-ORIGINAL-URL:https://salud.msp.gob.cu
X-WR-CALDESC:Eventos para Sitio oficial de gobierno del Ministerio de Salud Pública en Cuba.
BEGIN:VEVENT
DTSTART;VALUE=DATE:20191113
DTEND;VALUE=DATE:20191116
DTSTAMP:20191115T061428
CREATED:20190214T201555Z
LAST-MODIFIED:20190214T201555Z
UID:502-1573603200-1573862399@salud.msp.gob.cu
SUMMARY:IX Congreso de Nutrición Clínica y Metabolismo
DESCRIPTION:\n        ¡Haz clic para calificar esta publicación!\n        [Total: 0  Average: 0]IX Congreso de Nutrición Clínica y Metabolismo \n
URL:https://salud.msp.gob.cu/?tribe_events=ix-congreso-de-nutricion-clinica-y-metabolismo
LOCATION:Centro de Eventos de Camagüey\, Camagüey\, Camagüey\, Cuba
CATEGORIES:Nacionales
END:VEVENT
END:VCALENDAR