BEGIN:VCALENDAR
VERSION:2.0
PRODID:-//Sitio oficial de gobierno del Ministerio de Salud Pública en Cuba. - ECPv4.7.3//NONSGML v1.0//EN
CALSCALE:GREGORIAN
METHOD:PUBLISH
X-WR-CALNAME:Sitio oficial de gobierno del Ministerio de Salud Pública en Cuba.
X-ORIGINAL-URL:https://salud.msp.gob.cu
X-WR-CALDESC:Eventos para Sitio oficial de gobierno del Ministerio de Salud Pública en Cuba.
BEGIN:VEVENT
DTSTART;VALUE=DATE:20200316
DTEND;VALUE=DATE:20200321
DTSTAMP:20191115T220156
CREATED:20190425T200107Z
LAST-MODIFIED:20190425T200107Z
UID:1520-1584316800-1584748799@salud.msp.gob.cu
SUMMARY:Informática Habana 2020
DESCRIPTION:\n        ¡Haz clic para calificar esta publicación!\n        [Total: 1  Average: 5]Líneas Temáticas\n\n\n\n\n\n\n\nHistoria Clínica Digital.\n\n\nImplementación.\nDisponibilidad\, confidencialidad\, seguridad y protección de los datos clínicos.\nInformación clínica para la planificación de recursos médicos.\nRiesgos en su implementación\nNormalización e interoperabilidad de la Historia Clínica Digital\nPolíticas y disposiciones legales para su implementación.\n\n\neSalud y la práctica clínica.\n\n\nInformática para la Atención Primaria de Salud.\nInformática en comunidades aisladas.\nSistemas abiertos en salud.\nGestión hospitalaria y automatización.\nAseguramiento de la calidad.\nAhorro energético.\n\n\n Trabajo colaborativo y aprendizaje en Red / \n\n\nFormación a distancia en salud.\nConocimiento y prácticas pedagógicas en salud en la educación en red.\nMinería de datos y reconocimiento de patrones en aplicaciones para la salud.\nBibliotecas virtuales de salud.\nModelación\, simulación e inteligencia artificial.\nProcesamiento estadístico.\nSistemas de gestión de contenidos en Salud.\nAplicaciones de Inteligencia artificial en Salud.\n\n\n Informática y los procesos de Enfermería.\n\n\nLa informática en la Gestión del Cuidado.\nAplicaciones informáticas en los procesos de enfermería.\nTrabajo en red para el desarrollo de la enfermería.\nLas TIC en los procesos docentes de enfermería.\nLa educación informática y la gestión del conocimiento en enfermería.\n\n\n Telemedicina\, tecnologías médicas\, seguridad informática\, regulaciones\, vigilancia en salud.\n\n\nTelemedicina.\nGestión de bases de datos en aplicaciones informáticas para la salud.\nInternet como instrumento para la salud.\nTelemedicina.\nAplicaciones de mSalud.\nNormativas y regulaciones en el uso de las TIC.\nInformática en salud pública.\nSistemas integrados avanzados de información en salud.\nVigilancia en salud.\nSeguridad Informática en Salud.\n\n\nNuevas tecnologías de la información y la práctica clínica.\n\n\nInvestigación clínica.\nProcesamiento de imágenes y señales médicas.\nSistemas para el monitoreo y el diagnóstico.\nNeuroinformática.\nBioinformática.\n\n\n\n\n\n\n\n{"@context":"http:\/\/schema.org\/"\,"@type":"Product"\,"name":"Inform\u00e1tica Habana 2020"\,"image":{"@type":"ImageObject"\,"url":"https:\/\/salud.msp.gob.cu\/wp-content\/uploads\/2019\/04\/informatica-habana-2020.jpg"\,"width":1024\,"height":379}\,"aggregateRating":{"@type":"AggregateRating"\,"ratingValue":"5"\,"ratingCount":"1"}}
URL:https://salud.msp.gob.cu/?tribe_events=informatica-habana-2020
LOCATION:Palacio de las Convenciones\, 146\, Romerillo\, Playa\, Ciudad de la Habana\, La Habana\, 12100\, Cuba
CATEGORIES:Internacionales
ATTACH;FMTTYPE=image/jpeg:https://salud.msp.gob.cu/wp-content/uploads/2019/04/informatica-habana-2020.jpg
ORGANIZER;CN="Lic.%20Karell%20Barthelemy%20Aguilar":MAILTO:kbarthelemy.gtm@infomed.sld.cu
END:VEVENT
END:VCALENDAR