BEGIN:VCALENDAR
VERSION:2.0
PRODID:-//Sitio oficial de gobierno del Ministerio de Salud Pública en Cuba. - ECPv4.7.3//NONSGML v1.0//EN
CALSCALE:GREGORIAN
METHOD:PUBLISH
X-WR-CALNAME:Sitio oficial de gobierno del Ministerio de Salud Pública en Cuba.
X-ORIGINAL-URL:https://salud.msp.gob.cu
X-WR-CALDESC:Eventos para Sitio oficial de gobierno del Ministerio de Salud Pública en Cuba.
BEGIN:VEVENT
DTSTART;VALUE=DATE:20191209
DTEND;VALUE=DATE:20191215
DTSTAMP:20191115T061441
CREATED:20190214T202458Z
LAST-MODIFIED:20190214T202458Z
UID:516-1575849600-1576367999@salud.msp.gob.cu
SUMMARY:III Congreso Internacional de Atención Primaria de Salud
DESCRIPTION:\n        ¡Haz clic para calificar esta publicación!\n        [Total: 0  Average: 0]III Congreso Internacional de Atención Primaria de Salud \n
URL:https://salud.msp.gob.cu/?tribe_events=iii-congreso-internacional-de-atencion-primaria-de-salud
LOCATION:Palacio de las Convenciones\, 146\, Romerillo\, Playa\, Ciudad de la Habana\, La Habana\, 12100\, Cuba
CATEGORIES:Internacionales
END:VEVENT
END:VCALENDAR