BEGIN:VCALENDAR
VERSION:2.0
PRODID:-//Sitio oficial de gobierno del Ministerio de Salud Pública en Cuba. - ECPv4.7.3//NONSGML v1.0//EN
CALSCALE:GREGORIAN
METHOD:PUBLISH
X-WR-CALNAME:Sitio oficial de gobierno del Ministerio de Salud Pública en Cuba.
X-ORIGINAL-URL:https://salud.msp.gob.cu
X-WR-CALDESC:Eventos para Sitio oficial de gobierno del Ministerio de Salud Pública en Cuba.
BEGIN:VEVENT
DTSTART;VALUE=DATE:20191021
DTEND;VALUE=DATE:20191026
DTSTAMP:20191126T101702
CREATED:20190214T200509Z
LAST-MODIFIED:20190214T200509Z
UID:493-1571616000-1572047999@salud.msp.gob.cu
SUMMARY:Farmacología Habana 2019
DESCRIPTION:\n        ¡Haz clic para calificar esta publicación!\n        [Total: 0  Average: 0]\nVI Congreso Internacional de Farmacología y Terapéutica \nXIII Congreso Nacional de la Sociedad Cubana de Farmacología. \n
URL:https://salud.msp.gob.cu/?tribe_events=farmacologia-habana-2019
LOCATION:Hotel Nacional de Cuba\, Calle 21 esquina a la Calle O\, Vedado\, La Habana\, Ciudad de la Habana\, La Habana\, 10600\, Cuba
CATEGORIES:Internacionales,Nacionales
END:VEVENT
END:VCALENDAR