BEGIN:VCALENDAR
VERSION:2.0
PRODID:-//Sitio oficial de gobierno del Ministerio de Salud Pública en Cuba. - ECPv4.7.3//NONSGML v1.0//EN
CALSCALE:GREGORIAN
METHOD:PUBLISH
X-WR-CALNAME:Sitio oficial de gobierno del Ministerio de Salud Pública en Cuba.
X-ORIGINAL-URL:https://salud.msp.gob.cu
X-WR-CALDESC:Eventos para Sitio oficial de gobierno del Ministerio de Salud Pública en Cuba.
BEGIN:VEVENT
DTSTART;VALUE=DATE:20191203
DTEND;VALUE=DATE:20191208
DTSTAMP:20191115T061438
CREATED:20190214T202300Z
LAST-MODIFIED:20190214T202300Z
UID:512-1575331200-1575763199@salud.msp.gob.cu
SUMMARY:Angiocaribe 2019
DESCRIPTION:\n        ¡Haz clic para calificar esta publicación!\n        [Total: 1  Average: 5]XI Congreso Caribeño de Angiología y Cirugía Vascular \n{"@context":"http:\/\/schema.org\/"\,"@type":"Product"\,"name":"Angiocaribe 2019"\,"image":{"@type":"ImageObject"\,"url":"https:\/\/salud.msp.gob.cu\/wp-content\/uploads\/2019\/01\/logo.png"\,"width":133\,"height":139}\,"aggregateRating":{"@type":"AggregateRating"\,"ratingValue":"5"\,"ratingCount":"1"}}
URL:https://salud.msp.gob.cu/?tribe_events=angiocaribe-2019
LOCATION:Centro de Convenciones Plaza América\, Autopista Sur\, Cárdenas\, Matanzas\, Varadero\, Matanzas\, 42220\, Cuba
CATEGORIES:Internacionales,Nacionales
END:VEVENT
END:VCALENDAR